BEGIN:VCALENDAR
VERSION:2.0
PRODID:-//Metfield Parish Council//Meeting Calendar//EN
CALSCALE:GREGORIAN
METHOD:PUBLISH
BEGIN:VEVENT
UID:70467-20250414@metfieldparishcouncil.gov.uk
DTSTAMP:20260419T140128Z
DTSTART;VALUE=DATE:20250414
DTEND;VALUE=DATE:20250415
SUMMARY:Annual Parish Meeting &#8211\\; 14 April 2025
DESCRIPTION:Annual Parish Meeting\nView details: https://metfieldparishcouncil.gov.uk/meetings/annual-parish-meeting-14-april-2025/
URL:https://metfieldparishcouncil.gov.uk/meetings/annual-parish-meeting-14-april-2025/
END:VEVENT
END:VCALENDAR
